BEGIN:VCALENDAR
VERSION:2.0
PRODID:-//eventon.com NONSGML v1.0//EN
BEGIN:VEVENT
UID:69e9d99c9643d
DTSTAMP:20260423T183436
DTSTART:20200508T100000Z
DTEND:20200508T103000Z
TZID:UTC
LOCATION:Online - Facebook 
SUMMARY:Out of Water Aqua
DESCRIPTION: Out of Water Aqua\nhttps://bfitathome.com.au/events/out-of-water-aqua/
URL:https://bfitathome.com.au/events/out-of-water-aqua/
END:VEVENT
END:VCALENDAR