BEGIN:VCALENDAR
VERSION:2.0
PRODID:-//eventon.com NONSGML v1.0//EN
BEGIN:VEVENT
UID:69e7376801022
DTSTAMP:20260421T183800
DTSTART:20200429T100000Z
DTEND:20200429T102900Z
TZID:UTC
LOCATION:Online - Facebook 
SUMMARY:Abs\,  Butt & thighs - with Izzy
DESCRIPTION: Abs\,  Butt & thighs - with Izzy\nhttps://bfitathome.com.au/events/abs-butt-thighs-with-izzy/
URL:https://bfitathome.com.au/events/abs-butt-thighs-with-izzy/
END:VEVENT
END:VCALENDAR